BEGIN:VCALENDAR
VERSION:2.0
PRODID:-//Free Waters - ECPv6.15.17.1//NONSGML v1.0//EN
CALSCALE:GREGORIAN
METHOD:PUBLISH
X-WR-CALNAME:Free Waters
X-ORIGINAL-URL:https://freewaters.it
X-WR-CALDESC:Eventi per Free Waters
REFRESH-INTERVAL;VALUE=DURATION:PT1H
X-Robots-Tag:noindex
X-PUBLISHED-TTL:PT1H
BEGIN:VTIMEZONE
TZID:Europe/Rome
BEGIN:DAYLIGHT
TZOFFSETFROM:+0100
TZOFFSETTO:+0200
TZNAME:CEST
DTSTART:20230326T010000
END:DAYLIGHT
BEGIN:STANDARD
TZOFFSETFROM:+0200
TZOFFSETTO:+0100
TZNAME:CET
DTSTART:20231029T010000
END:STANDARD
BEGIN:DAYLIGHT
TZOFFSETFROM:+0100
TZOFFSETTO:+0200
TZNAME:CEST
DTSTART:20240331T010000
END:DAYLIGHT
BEGIN:STANDARD
TZOFFSETFROM:+0200
TZOFFSETTO:+0100
TZNAME:CET
DTSTART:20241027T010000
END:STANDARD
BEGIN:DAYLIGHT
TZOFFSETFROM:+0100
TZOFFSETTO:+0200
TZNAME:CEST
DTSTART:20250330T010000
END:DAYLIGHT
BEGIN:STANDARD
TZOFFSETFROM:+0200
TZOFFSETTO:+0100
TZNAME:CET
DTSTART:20251026T010000
END:STANDARD
BEGIN:DAYLIGHT
TZOFFSETFROM:+0100
TZOFFSETTO:+0200
TZNAME:CEST
DTSTART:20260329T010000
END:DAYLIGHT
BEGIN:STANDARD
TZOFFSETFROM:+0200
TZOFFSETTO:+0100
TZNAME:CET
DTSTART:20261025T010000
END:STANDARD
END:VTIMEZONE
BEGIN:VEVENT
DTSTART;TZID=Europe/Rome:20250726T160000
DTEND;TZID=Europe/Rome:20250726T230000
DTSTAMP:20260423T233901
CREATED:20250629T063754Z
LAST-MODIFIED:20260320T180522Z
UID:5513-1753545600-1753570800@freewaters.it
SUMMARY:TRAMONTO A TORCELLO
DESCRIPTION:TRAMONTO A TORCELLO\n\n\nSABATO 26 LUGLIO 2025 \n\n\nRitrovo e partenza da: https://goo.gl/maps/tFvGjVKxx1diikzCA \nOre: 16:00\nPrezzo: € 55\,00 a persona (la quota comprende: copertura assicurativa personale giornaliera\, utilizzo del materiale e accompagnatori. Scelta libera tra pranzo al sacco o cena/stuzzichini in loco).\nPercorso: 12 km circa andata e ritorno\, semplice\, con possibili variazioni in base alla marea.\nDurata totale: circa 6 ore\, tra kayak\, pic-nic e giretto sull’isola.\n\nStruttura: Breve accoglienza + briefing e spiegazioni tecniche (quindi anche se non sei mai andato in kayak puoi venire!! 🙂\nPoi si parte in direzione Torcello. Ci godiamo il paesaggio lagunare\, il tramonto\, il pic-nic e rientriamo!\n\nA seguito di questo form riceverai una mail di riepilogo\, se dovessi aver bisogno di altre informazioni contattaci pure anche su whatsapp! 🙂
URL:https://freewaters.it/evento/tramonto-a-torcello/
END:VEVENT
BEGIN:VEVENT
DTSTART;VALUE=DATE:20250720
DTEND;VALUE=DATE:20250721
DTSTAMP:20260423T233901
CREATED:20250629T063653Z
LAST-MODIFIED:20250629T063653Z
UID:5511-1752969600-1753055999@freewaters.it
SUMMARY:RAFTING/TUBING IN PIAVE  20 LUGLIO
DESCRIPTION:RAFTING/TUBING IN PIAVE \n\n\nRitrovo e partenza da: https://maps.app.goo.gl/EXZwEYX3L4UxYwgC9 \n\nPrezzo: € 38\,00 a persona adulti (la quota comprende: copertura assicurativa personale giornaliera\, utilizzo del materiale e accompagnatori). \n€ 28\,00 bambini dai 4 anni in su. \nStruttura: Breve accoglienza + briefing e spiegazioni tecniche (quindi anche se non hai mai fatto rafting puoi venire!! 🙂 Poi si parte per un po’ di sano divertimento in fiume\, ci si bagna e si rientra! 😉\nLa durata della discesa può variare in base alle condizioni meteo/fluviali. \nper iscriverti entra nella nostra pagina facebook : Free Waters e clicca su : \n\n\n\n\n\n\n\n\n\n\nlinktr.ee/freewaters
URL:https://freewaters.it/evento/rafting-tubing-in-piave-20-luglio/
END:VEVENT
BEGIN:VEVENT
DTSTART;TZID=Europe/Rome:20250719T170000
DTEND;TZID=Europe/Rome:20250719T200000
DTSTAMP:20260423T233901
CREATED:20250629T063551Z
LAST-MODIFIED:20250629T063551Z
UID:5509-1752944400-1752955200@freewaters.it
SUMMARY:RAFTING/TUBING IN PIAVE  AL TRAMONTO 19 LUGLIO
DESCRIPTION:RAFTING/TUBING IN PIAVE \n\n\nRitrovo e partenza da: https://maps.app.goo.gl/EXZwEYX3L4UxYwgC9 \n\nPrezzo: € 38\,00 a persona adulti (la quota comprende: copertura assicurativa personale giornaliera\, utilizzo del materiale e accompagnatori). \n€ 28\,00 bambini dai 4 anni in su. \nStruttura: Breve accoglienza + briefing e spiegazioni tecniche (quindi anche se non hai mai fatto rafting puoi venire!! 🙂 Poi si parte per un po’ di sano divertimento in fiume\, ci si bagna e si rientra! 😉\nLa durata della discesa può variare in base alle condizioni meteo/fluviali. \nper iscriverti entra nella nostra pagina facebook : Free Waters e clicca su : \n\n\n\n\n\n\n\n\n\n\nlinktr.ee/freewaters
URL:https://freewaters.it/evento/rafting-tubing-in-piave-al-tramonto-19-luglio/
END:VEVENT
BEGIN:VEVENT
DTSTART;VALUE=DATE:20250712
DTEND;VALUE=DATE:20250713
DTSTAMP:20260423T233901
CREATED:20250629T063404Z
LAST-MODIFIED:20250629T063404Z
UID:5507-1752278400-1752364799@freewaters.it
SUMMARY:RAFTING/TUBING IN PIAVE - 12 LUGLIO
DESCRIPTION:RAFTING/TUBING IN PIAVE \n\n\nRitrovo e partenza da: https://maps.app.goo.gl/EXZwEYX3L4UxYwgC9 \n\nPrezzo: € 38\,00 a persona adulti (la quota comprende: copertura assicurativa personale giornaliera\, utilizzo del materiale e accompagnatori). \n€ 28\,00 bambini dai 4 anni in su. \nStruttura: Breve accoglienza + briefing e spiegazioni tecniche (quindi anche se non hai mai fatto rafting puoi venire!! 🙂 Poi si parte per un po’ di sano divertimento in fiume\, ci si bagna e si rientra! 😉\nLa durata della discesa può variare in base alle condizioni meteo/fluviali. \nper iscriverti entra nella nostra pagina facebook : Free Waters e clicca su : \n\n\n\n\n\n\n\n\n\n\nlinktr.ee/freewaters
URL:https://freewaters.it/evento/rafting-tubing-in-piave-12-luglio/
END:VEVENT
BEGIN:VEVENT
DTSTART;VALUE=DATE:20250706
DTEND;VALUE=DATE:20250707
DTSTAMP:20260423T233901
CREATED:20250629T063251Z
LAST-MODIFIED:20250629T063251Z
UID:5505-1751760000-1751846399@freewaters.it
SUMMARY:RAFTING/TUBING IN PIAVE - 6 LUGLIO
DESCRIPTION:RAFTING/TUBING IN PIAVE – 6/12/19/20 LUGLIO\n\nRitrovo e partenza da: https://maps.app.goo.gl/EXZwEYX3L4UxYwgC9 \n\nPrezzo: € 38\,00 a persona adulti (la quota comprende: copertura assicurativa personale giornaliera\, utilizzo del materiale e accompagnatori). \n€ 28\,00 bambini dai 4 anni in su. \nStruttura: Breve accoglienza + briefing e spiegazioni tecniche (quindi anche se non hai mai fatto rafting puoi venire!! 🙂 Poi si parte per un po’ di sano divertimento in fiume\, ci si bagna e si rientra! 😉\nLa durata della discesa può variare in base alle condizioni meteo/fluviali. \nper iscriverti entra nella nostra pagina facebook : Free Waters e clicca su : \n\n\n\n\n\n\n\n\n\n\nlinktr.ee/freewaters
URL:https://freewaters.it/evento/rafting-tubing-in-piave-6-luglio/
END:VEVENT
BEGIN:VEVENT
DTSTART;TZID=Europe/Rome:20250629T150000
DTEND;TZID=Europe/Rome:20250629T200000
DTSTAMP:20260423T233901
CREATED:20250629T062555Z
LAST-MODIFIED:20250629T062845Z
UID:5500-1751209200-1751227200@freewaters.it
SUMMARY:APERIKAYAK MURANO - 5 LUGLIO 2025
DESCRIPTION:SABATO 5 LUGLIO 2025 \n\nRitrovo e partenza da “Passo Campalto”: https://maps.app.goo.gl/k73Cqpz53VjiwAnT7\nOre: 15:00 circa\nPrezzo: € 35\,00 a persona (la quota comprende: copertura assicurativa personale giornaliera\, utilizzo del materiale\, materiale di sicurezza e accompagnatori. Non comprende l’aperitivo libero).\nPercorso: 7 km circa andata e ritorno\, semplice\, con possibili variazioni in base alla marea.\nDurata totale: circa 6 ore\, tra kayak\, aperitivo e giretto sull’isola.\n\nStruttura: Breve accoglienza + briefing e spiegazioni tecniche (quindi anche se non sei mai andato in kayak puoi venire!! 🙂\nPoi si parte in direzione Murano: ci godiamo la laguna da un punto di vista diverso\, chi vuole fa aperitivo e si rientra.\n\n\nPer Iscriversi : linktr.ee/freewaters  ( pagina facebook) \n\n\n\n\n\n\n\n\n\n\n\n\n\n\n\n\n\n\n\n\n\n\n\n\n\n\n\n\n\n\n\n\n\n\n\n\n\n\n\n\n\n\n\n\n\n\n\n\n\n\n\n\n\n\n\nA seguito di questo form riceverai una mail di riepilogo\, se dovessi aver bisogno di altre informazioni contattaci pure anche su whatsapp! 🙂
URL:https://freewaters.it/evento/aperikayak-murano-5-luglio-2025/
CATEGORIES:Canoa,Gruppi,Kayak
END:VEVENT
BEGIN:VEVENT
DTSTART;VALUE=DATE:20250426
DTEND;VALUE=DATE:20250427
DTSTAMP:20260423T233901
CREATED:20250320T155419Z
LAST-MODIFIED:20250320T155419Z
UID:4764-1745625600-1745711999@freewaters.it
SUMMARY:Rafting in Piave
DESCRIPTION:a Breve tutte le info
URL:https://freewaters.it/evento/rafting-in-piave/
END:VEVENT
BEGIN:VEVENT
DTSTART;VALUE=DATE:20250421
DTEND;VALUE=DATE:20250422
DTSTAMP:20260423T233901
CREATED:20250320T155233Z
LAST-MODIFIED:20250409T174428Z
UID:4762-1745193600-1745279999@freewaters.it
SUMMARY:Rafting & Picnic  al Piave
DESCRIPTION:Cosa fate a PASQUETTA \nFreewaters propone discesa Rafting & pic-nic nel parco del Passo Barca.La discesa si fa nel fiume Piave\, tra acque turchesi e piccole rapide.Attività adatta a grandi e piccini \n\nVieni con i tuoi amici o familiari e vivi la tua pasquetta immerso nella natura e nel divertimento \n PUNTO DI RITROVOhttps://maps.app.goo.gl/wP3ehaK3aZRRA2vy5\n ISCRIZIONIhttps://forms.gle/v4GCpwzA9HjQu5tQ8\n € 38\,00 adulto // €20\,00 bambino/ragazzo (4-17 anni)
URL:https://freewaters.it/evento/rafting-picnic-o-grigliata-in-riva-alla-piave/
ATTACH;FMTTYPE=image/jpeg:https://freewaters.it/wp-content/uploads/2024/03/432425619_1009631050697410_6570191185209838929_n.jpg
END:VEVENT
BEGIN:VEVENT
DTSTART;TZID=Europe/Rome:20250419T140000
DTEND;TZID=Europe/Rome:20250419T200000
DTSTAMP:20260423T233901
CREATED:20250320T154758Z
LAST-MODIFIED:20250409T173137Z
UID:4760-1745071200-1745092800@freewaters.it
SUMMARY:apery kayak pre pasquale
DESCRIPTION:SABATO 19 APRILE  APERYKAYAK \n\nCi imbarcheremo presso il porticciolo  di Passo Campalto\, dopo una infarinatura sulla sicurezza\, pagaiata e gestione della canoa\, puntiamo l’Isola di Murano per una breve sosta aperitivo per poi rientrare.\n\nDifficoltà: Semplice\, adatta dai 15 anni in su\n\n\nPunto di ritrovo: https://maps.app.goo.gl/vrBD3xXouTj5TFJMA\n\nOrario di ritrovo: ore 14.00 ;l’orario di rientro (verso le 19/19\,30 ) può subire delle variazioni in base  alla composizione del   gruppo\, per questioni meteo  o di  marea.\n\nQuota 35.00 euro\, comprende: accompagnamento\, copertura assicurativa\, uso attrezzatura (canoa\, pagaia\, salvagente\, paraspruzzi).\n\n\nMateriale da portare:    Costume\, maglietta\, pantaloni comodi\, k-Way\, paio di scarpe da poter bagnare\, cappellino\, borraccia\, asciugamano\,  cambio asciutto\, medicinali ” se occorenti” salvavita \n\nLINK PER ISCRIVERSI : https://forms.gle/yCYDjdsKHgK34Fkn6
URL:https://freewaters.it/evento/apery-kayak-pre-pasquale/
ATTACH;FMTTYPE=image/jpeg:https://freewaters.it/wp-content/uploads/2024/03/286372389_530015141992339_3967225491699462130_n.jpg
END:VEVENT
BEGIN:VEVENT
DTSTART;VALUE=DATE:20250413
DTEND;VALUE=DATE:20250414
DTSTAMP:20260423T233901
CREATED:20250320T154308Z
LAST-MODIFIED:20250409T174619Z
UID:4757-1744502400-1744588799@freewaters.it
SUMMARY:Rafting a Falzè di Piave
DESCRIPTION:RAFTING IN PIAVE:\n\nGiornata in Rafting lungo la Piave con noi della Free Waters. \n\n\nUna giornata speciale\, un percorso emozionante\, semplice e molto divertente\,  da scendere in Gommone\, con rapide e laghetti limpidi dove ci si può tuffare.\nQuesta avventura da la possibilità  di fare un’esperienza immersi nella  natura\, all’interno di un fiume dalle acque cristalline. \n\n\n  \n\n\nLOCATION:\n\n\nFIUME PIAVE ( punto di partenza dell’attività Falzè di Piave)\,  in un parco incantevole all’ombra di alberi immensi è perfetta per fare pic-nic\, giochi  e passeggiate. Qui abbiamo la nostra sede\, dove si può usufruire di spogliatoi e Toilette. \n\n\n posizione e punto di ritrovo:  https://goo.gl/maps/YD1hiqYXX3fvU9ar7 \n\n\n  \n\n\nDURATA DISCESA:\n\n\nDopo la vestizione ed organizzazione della discesa\, si fa un breve Briefing  dove spiegheremo  le tecniche per scendere in Raft\, per poi partire per questa magica avventura. \n\n\nla durata della discesa è di 2\,5/3 ore ore ( molto dipende dal tempo\, da quanto volete mettervi in gioco e da quanto vi farete coinvolgere). \ndiscesa ore 10.00\ndiscesa ore 15.00\n\nper informazioni e iscrizioni messaggio wathsapp a 3299796208
URL:https://freewaters.it/evento/rafting-a-falze-di-piave/
CATEGORIES:Rafting,Trekking
ATTACH;FMTTYPE=image/jpeg:https://freewaters.it/wp-content/uploads/2025/03/programma-dedicato_PIAVE_freewaters1.jpg
END:VEVENT
BEGIN:VEVENT
DTSTART;VALUE=DATE:20250406
DTEND;VALUE=DATE:20250407
DTSTAMP:20260423T233901
CREATED:20250320T153954Z
LAST-MODIFIED:20250320T153954Z
UID:4754-1743897600-1743983999@freewaters.it
SUMMARY:L'isola che non c'è  a Mirano
DESCRIPTION:Manifestazione in Piazza Mirano. \nvieni a trovarci allo Stand Free Waters e prova a fare un giro in Rafting lungo il fiume.
URL:https://freewaters.it/evento/lisola-che-non-ce-a-mirano/
END:VEVENT
BEGIN:VEVENT
DTSTART;VALUE=DATE:20250330
DTEND;VALUE=DATE:20250331
DTSTAMP:20260423T233901
CREATED:20250320T153704Z
LAST-MODIFIED:20250320T153704Z
UID:4752-1743292800-1743379199@freewaters.it
SUMMARY:preparazione Kayak Accompagnatori Free Waters
DESCRIPTION:
URL:https://freewaters.it/evento/preparazione-kayak-accompagnatori-free-waters/
END:VEVENT
BEGIN:VEVENT
DTSTART;TZID=Europe/Rome:20250118T150000
DTEND;TZID=Europe/Rome:20250118T200000
DTSTAMP:20260423T233901
CREATED:20250108T155050Z
LAST-MODIFIED:20250108T155050Z
UID:4254-1737212400-1737230400@freewaters.it
SUMMARY:Escursione Pian de le Femene
DESCRIPTION:Partenza dalla località “La Posa” e arrivo alla “Pera”\, sopra al monte Torresel al tramonto. Qui godremo di una vista a 360° gradi sulle Dolomiti Bellunesi\, sul Passo San Boldo e sulla Valle del Soligo\, mentre il sole si nasconde fra le montagne e il cielo si tinge di mille colori\nRitorno al crepuscolo con osservazione delle prime stelle che spuntano nel cielo dopo il tramonto\nSaremo accompagnati dalla guida escursionistica ambientale Caterina che ci parlerà dei segreti che si celano fra queste montagne: dalla resistenza alla transumanza e al vissuto contadino\, fino all’astrazione dell’astronomia e delle leggende cosmiche.\nPossibilità di cena finale a Casera Vecia.\nLIVELLO: difficoltà media\, 5km e 300m d+(il percorso potrà subire delle modifiche in caso di neve/ghiaccio)COSTO: 23€ p.p. comprende organizzazione\, guida\, assicurazione.CENA (facoltativa): da 20€ p.p. [secondo piatto con due contorni\, acqua e coperto; bevande escluse]\nLINK PER ISCRIVERSI (entro e non oltre Martedi 14/01): https://forms.gle/J8dhPwC7KwCYe56JAPUNTO DI RITROVO: parcheggio di Pian Dele Femenehttps://maps.app.goo.gl/vxu1wZGwRhkdLxX47
URL:https://freewaters.it/evento/escursione-pian-de-le-femene/
LOCATION:https://maps.app.goo.gl/vxu1wZGwRhkdLxX47
CATEGORIES:Gruppi,Trekking
ATTACH;FMTTYPE=image/jpeg:https://freewaters.it/wp-content/uploads/2025/01/472649927_1227551818905331_4825129912258904835_n.jpg
END:VEVENT
BEGIN:VEVENT
DTSTART;TZID=Europe/Rome:20241001T080000
DTEND;TZID=Europe/Rome:20241031T170000
DTSTAMP:20260423T233901
CREATED:20241001T061418Z
LAST-MODIFIED:20241001T061418Z
UID:3569-1727769600-1730394000@freewaters.it
SUMMARY:Attività mese di Ottobre
DESCRIPTION:
URL:https://freewaters.it/evento/attivita-mese-di-ottobre/
ATTACH;FMTTYPE=image/jpeg:https://freewaters.it/wp-content/uploads/2024/10/460982278_1151502499843597_5128194241148692923_n.jpg
END:VEVENT
BEGIN:VEVENT
DTSTART;TZID=Europe/Rome:20240906T080000
DTEND;TZID=Europe/Rome:20240907T170000
DTSTAMP:20260423T233901
CREATED:20240806T063546Z
LAST-MODIFIED:20240806T064113Z
UID:3183-1725609600-1725728400@freewaters.it
SUMMARY:OpenDay Insegnanti/Educatori  Kayak
DESCRIPTION:Il giorno   Venerdì 6 Settembre e il giorno Sabato  7 Settembre dedicheremo due Giornate all’Open day insegnanti/ eudcatori \,per promuovere le nostre proposte di attività per l’anno scolastico 2024/2025.\n\n Outdoor Educational Free Waters \,offre una semplice e diretta esperienza sensoriale e valoriale. – consente di esplorare conoscere e sperimentare. – porta benefici dal punto di vista fisico\, motorio\, cognitivo\, relazionale e ambientale. – trasforma l‟esperienza in conoscenza e apprendimento. – favorisce la riduzione di comportamenti anti sociali e devianti nei contesti scolastici. – alimenta la coesione con i membri della squadra e aumenta la fiducia in se stessi e nell‟altro. – si ritrova nell‟incontro autentico con l‟ambiente esterno una importante fonte di motivazione indispensabile per i processi di apprendimento significativo e creativo. – promuove il rispetto dell‟ambiente\, l‟ecologia\, la sostenibilità\n\nOrganizziamo giornate  su misura per le diverse età\, personalizzate in base al vostro programma didattico e formativo da un giorno a più giorni.\n\n\ncosa puoi organizzare:\n“Lezioni all’aperto”\n“Giornate dello sport 2025”\n“Benvenuto inizio anno scolastico”\n“Giornate sulla neve”\n“Settimane bianche”\n” Esperienze di più giorni di attività in natura”\n” Esperienze  Survival”\n\n\n Vi invitiamo e vi dedichiamo una giornata esperienziale  a spese dell’associazione\, dove vivrete in prima persona  quello che andrete a  proporre ai vostri ragazzi.\n\nEsperienza  Kayak in laguna  Isola di Murano:\nSABATO 6 SETTEMBRE  2024:\nLINK PER ISCRIVERSI: https://form.jotform.com/242131071895353\nprogramma:\nRitrovo ore 10.00\nPunto di Ritrovo: Porticciolo Passo Campalto\n\nGiro In Kayak a Murano e aperitivo\, dove presenteremo le nostre proposte.\nRientro previsto per le ore 15.00\n\n\nEsperienza in Rafting lungo il fiume Piave ( Falzè di Piave):\nSABATO 7  SETTEMBRE 2024\nritrovo ore 10.00\n Punto di Ritrovo: Falze’ di Piave\nDiscesa Rafting\nore 13.00 aperitivo pastasciutta  e presentazione attività.\nLink per iscriversi: https://form.jotform.com/242131298390354\n\nSe sei curioso delle nostre proposte e non vuoi partecipare all’uscita in kayak o alla discesa in Rafting\, sei lo stesso invitato a partecipare alla presentazione alle ore 14.00 di sabato 7 settembre presso la nostra base di Falzè di Piave.\n\nfine attività ore 15.30\n\nPer  maggiori informazioni informazioni :  info@freewaters.it  oppure 3299796208
URL:https://freewaters.it/evento/openday-insegnanti-educatori-kayak/
CATEGORIES:Canoa,Gruppi,Kayak,Outdoor Educational,Rafting,Scuole,Trekking
ATTACH;FMTTYPE=image/jpeg:https://freewaters.it/wp-content/uploads/2024/08/IMG-20240805-WA0018.jpg
END:VEVENT
BEGIN:VEVENT
DTSTART;TZID=Europe/Rome:20240806T080000
DTEND;TZID=Europe/Rome:20240831T170000
DTSTAMP:20260423T233901
CREATED:20240806T063107Z
LAST-MODIFIED:20240806T063807Z
UID:3179-1722931200-1725123600@freewaters.it
SUMMARY:Tubing & Rafting
DESCRIPTION:Distaccati dalla massa… per rinfrescarti non scegliere tra mare o piscina\, scegli il TUBING o RAFTING con Freewaters! Organizziamo uscite da 4 persone in su e puoi scegliere tra due località: Falzè di Piave (fiume Piave) Oppure Auronzo (fiume Ansiei)  Quest’estate prova qualcosa di diverso\, contattaci
URL:https://freewaters.it/evento/3179/
ATTACH;FMTTYPE=image/jpeg:https://freewaters.it/wp-content/uploads/2024/08/453608399_1108195130841001_43417755032377256_n.jpg
END:VEVENT
BEGIN:VEVENT
DTSTART;TZID=Europe/Rome:20240806T080000
DTEND;TZID=Europe/Rome:20240831T170000
DTSTAMP:20260423T233901
CREATED:20240806T062458Z
LAST-MODIFIED:20240806T062458Z
UID:3175-1722931200-1725123600@freewaters.it
SUMMARY:Appuntamenti mese di Agosto2024
DESCRIPTION:
URL:https://freewaters.it/evento/appuntamenti-mese-di-agosto2024/
ATTACH;FMTTYPE=image/jpeg:https://freewaters.it/wp-content/uploads/2024/08/IMG-20240805-WA0017.jpg
END:VEVENT
BEGIN:VEVENT
DTSTART;VALUE=DATE:20240704
DTEND;VALUE=DATE:20240705
DTSTAMP:20260423T233901
CREATED:20240703T134437Z
LAST-MODIFIED:20240703T134437Z
UID:2882-1720051200-1720137599@freewaters.it
SUMMARY:Rafting con il Grest di Biancade
DESCRIPTION:
URL:https://freewaters.it/evento/rafting-con-il-grest-di-biancade/
END:VEVENT
BEGIN:VEVENT
DTSTART;TZID=Europe/Rome:20240531T080000
DTEND;TZID=Europe/Rome:20240630T170000
DTSTAMP:20260423T233901
CREATED:20240531T091403Z
LAST-MODIFIED:20240531T091403Z
UID:2649-1717142400-1719766800@freewaters.it
SUMMARY:Calendario mese di Giugno 2024
DESCRIPTION:
URL:https://freewaters.it/evento/calendario-mese-di-giugno-2024/
ATTACH;FMTTYPE=image/jpeg:https://freewaters.it/wp-content/uploads/2024/05/441877735_1062956928698155_2753006452470515267_n.jpg
END:VEVENT
BEGIN:VEVENT
DTSTART;TZID=Europe/Rome:20240514T080000
DTEND;TZID=Europe/Rome:20240514T170000
DTSTAMP:20260423T233901
CREATED:20240422T132946Z
LAST-MODIFIED:20240422T133221Z
UID:2387-1715673600-1715706000@freewaters.it
SUMMARY:Mattinata in Kayak con Istituto Coletti Treviso
DESCRIPTION:
URL:https://freewaters.it/evento/mattinata-in-kayak-con-istituto-coletti-treviso/
ATTACH;FMTTYPE=image/jpeg:https://freewaters.it/wp-content/uploads/2024/04/275379470_4765732480142048_1262465166919645287_n.jpg
END:VEVENT
BEGIN:VEVENT
DTSTART;VALUE=DATE:20240512
DTEND;VALUE=DATE:20240513
DTSTAMP:20260423T233901
CREATED:20240422T132707Z
LAST-MODIFIED:20240422T132707Z
UID:2384-1715472000-1715558399@freewaters.it
SUMMARY:Isola di Campalto in Kayak con gli Erasmus
DESCRIPTION:
URL:https://freewaters.it/evento/isola-di-campalto-in-kayak-con-gli-erasmus/
ATTACH;FMTTYPE=image/jpeg:https://freewaters.it/wp-content/uploads/2023/04/DSCF9710.jpg
END:VEVENT
BEGIN:VEVENT
DTSTART;VALUE=DATE:20240511
DTEND;VALUE=DATE:20240512
DTSTAMP:20260423T233901
CREATED:20240422T131450Z
LAST-MODIFIED:20240422T133648Z
UID:2369-1715385600-1715471999@freewaters.it
SUMMARY:OPEN DAY RAFTING x INSEGNANTI FIUME PIAVE ( dalle elementari alle superiori)
DESCRIPTION:E dopo l’open kayak\, arriva anche l’immancabile OPEN DAY RAFTING!\nGiornata GRATUITA per insegnanti ed educatori che vogliono conoscere la nostra associazione\, le attività invernali/estive e il modo in cui è possibile adattarle in base all’età\, alle esigenze fisiche e didattiche!\nIn questa giornata sarete i protagonisti della discesa sul Piave affinché possiate provare l’adrenalina\, conoscere le regole per la sicurezza e testare le nostre capacità  Solo così avrete voglia di far provare ai ragazzi le stesse emozioni \nLINK PER ISCRIVERSI:https://forms.gle/Kk5TFio6nCniy3fF6
URL:https://freewaters.it/evento/open-day-rafting-x-insegnanti-fiume-piave-dalle-elementari-alle-superiori/
END:VEVENT
BEGIN:VEVENT
DTSTART;TZID=Europe/Rome:20240508T080000
DTEND;TZID=Europe/Rome:20240508T170000
DTSTAMP:20260423T233901
CREATED:20240422T132114Z
LAST-MODIFIED:20240422T132114Z
UID:2375-1715155200-1715187600@freewaters.it
SUMMARY:Corso Kayak a Jesolo con Sport Felix
DESCRIPTION:
URL:https://freewaters.it/evento/corso-kayak-a-jesolo-con-sport-felix/
ATTACH;FMTTYPE=image/jpeg:https://freewaters.it/wp-content/uploads/2024/04/275379470_4765732480142048_1262465166919645287_n.jpg
END:VEVENT
BEGIN:VEVENT
DTSTART;VALUE=DATE:20240507
DTEND;VALUE=DATE:20240508
DTSTAMP:20260423T233901
CREATED:20240422T131737Z
LAST-MODIFIED:20240422T131833Z
UID:2371-1715040000-1715126399@freewaters.it
SUMMARY:Mattinata  in Kayak Istituto Coletti
DESCRIPTION:
URL:https://freewaters.it/evento/mini-corso-kayak-istituto-coletti/
ATTACH;FMTTYPE=image/jpeg:https://freewaters.it/wp-content/uploads/2023/04/107445303_2965973333451314_6161184866840136162_n.jpg
END:VEVENT
BEGIN:VEVENT
DTSTART;VALUE=DATE:20240430
DTEND;VALUE=DATE:20240501
DTSTAMP:20260423T233901
CREATED:20240422T125841Z
LAST-MODIFIED:20240422T125841Z
UID:2361-1714435200-1714521599@freewaters.it
SUMMARY:Rafting in Piave con Istituto Da Vinci - Treviso
DESCRIPTION:
URL:https://freewaters.it/evento/rafting-in-piave-con-istituto-da-vinci-treviso/
ATTACH;FMTTYPE=image/jpeg:https://freewaters.it/wp-content/uploads/2024/03/432425619_1009631050697410_6570191185209838929_n.jpg
END:VEVENT
BEGIN:VEVENT
DTSTART;VALUE=DATE:20240429
DTEND;VALUE=DATE:20240430
DTSTAMP:20260423T233901
CREATED:20240422T125508Z
LAST-MODIFIED:20240422T125508Z
UID:2358-1714348800-1714435199@freewaters.it
SUMMARY:a Murano con L'Istituto Comprensivo Pescantina
DESCRIPTION:Accompagnamento di 72 ragazzi delle scuole medie di Pescantina (Verona)
URL:https://freewaters.it/evento/a-murano-con-listituto-comprensivo-pescantina/
ATTACH;FMTTYPE=image/jpeg:https://freewaters.it/wp-content/uploads/2023/08/367739425_871663047827545_1416267266812584106_n.jpg
END:VEVENT
BEGIN:VEVENT
DTSTART;TZID=Europe/Rome:20240428T080000
DTEND;TZID=Europe/Rome:20240428T170000
DTSTAMP:20260423T233901
CREATED:20240422T125028Z
LAST-MODIFIED:20240422T125028Z
UID:2355-1714291200-1714323600@freewaters.it
SUMMARY:KAYAK con gli scout
DESCRIPTION:
URL:https://freewaters.it/evento/kayak-con-gli-scout/
END:VEVENT
BEGIN:VEVENT
DTSTART;TZID=Europe/Rome:20240427T080000
DTEND;TZID=Europe/Rome:20240427T170000
DTSTAMP:20260423T233901
CREATED:20240422T124906Z
LAST-MODIFIED:20240422T124906Z
UID:2350-1714204800-1714237200@freewaters.it
SUMMARY:TORCELLO IN KAYAK
DESCRIPTION:Prontissima la seconda uscita della stagioneDestinazione TORCELLO!!! \nDopo un briefing iniziale dove vi spiegheremo le basi per gestire la canoa e la pagaia\, ci inoltreremo nella laguna e lungo il tragitto proveremo anche ad individuare i fenicotteri \nVi aspetta una meritata pausa pranzo presso Taverna Tipica Veneziana\, dove potrete letteralmente mangiare il piatto!!\n(https://g.page/TavernaTipicaVeneziana?share)\nOppure potrete portare il vostro pranzo a sacco e godere comunque di un’ottima compagnia!! \n Le iscrizioni chiudono il 25/04  Costo p.p. EUR 40\,00 (accompagnatori\, assicurazione\, attrezzatura completa) Attività adatta dai 15 anni in su Distanza totale 15km a/r\nPER ISCRIZIONI https://forms.gle/wPnfhyDLPhj8ff1Z6
URL:https://freewaters.it/evento/torcello-in-kayak/
ATTACH;FMTTYPE=image/jpeg:https://freewaters.it/wp-content/uploads/2024/04/437510204_1031305218529993_4543062986462565503_n.jpg
END:VEVENT
BEGIN:VEVENT
DTSTART;VALUE=DATE:20240425
DTEND;VALUE=DATE:20240426
DTSTAMP:20260423T233901
CREATED:20240422T123902Z
LAST-MODIFIED:20240422T124613Z
UID:2345-1714003200-1714089599@freewaters.it
SUMMARY:Griglia Raft
DESCRIPTION:Giovedì a casa??? Cosa fare? Vieni a divertirti con Freewaters e passa una giornata in compagnia\, nella natura e in movimento Prima una discesa rafting sul Piave e poi super grigliata in compagnia \nFreewaters metterà a disposizione l’attrezzatura necessaria\, mentre voi portate il cibo che più vi piace \nCosto per la discesa: EUR 35\,00p.p. (adulto) & EUR 28\,00 p.p. (bambino)comprendono assicurazione\, accompagnatori\, attrezzatura.\nLink per l’iscrizione: https://forms.gle/Aezp8Tov9VGLyZ6s7
URL:https://freewaters.it/evento/griglia-raft/
END:VEVENT
BEGIN:VEVENT
DTSTART;TZID=Europe/Rome:20240424T080000
DTEND;TZID=Europe/Rome:20240426T170000
DTSTAMP:20260423T233901
CREATED:20240422T123345Z
LAST-MODIFIED:20240422T123345Z
UID:2343-1713945600-1714150800@freewaters.it
SUMMARY:Noleggio Kayak Scout Venezia
DESCRIPTION:
URL:https://freewaters.it/evento/noleggio-kayak-scout-venezia/
END:VEVENT
END:VCALENDAR