BEGIN:VCALENDAR
VERSION:2.0
PRODID:-//Free Waters - ECPv6.15.17.1//NONSGML v1.0//EN
CALSCALE:GREGORIAN
METHOD:PUBLISH
X-ORIGINAL-URL:https://freewaters.it
X-WR-CALDESC:Eventi per Free Waters
REFRESH-INTERVAL;VALUE=DURATION:PT1H
X-Robots-Tag:noindex
X-PUBLISHED-TTL:PT1H
BEGIN:VTIMEZONE
TZID:Europe/Rome
BEGIN:DAYLIGHT
TZOFFSETFROM:+0100
TZOFFSETTO:+0200
TZNAME:CEST
DTSTART:20230326T010000
END:DAYLIGHT
BEGIN:STANDARD
TZOFFSETFROM:+0200
TZOFFSETTO:+0100
TZNAME:CET
DTSTART:20231029T010000
END:STANDARD
BEGIN:DAYLIGHT
TZOFFSETFROM:+0100
TZOFFSETTO:+0200
TZNAME:CEST
DTSTART:20240331T010000
END:DAYLIGHT
BEGIN:STANDARD
TZOFFSETFROM:+0200
TZOFFSETTO:+0100
TZNAME:CET
DTSTART:20241027T010000
END:STANDARD
BEGIN:DAYLIGHT
TZOFFSETFROM:+0100
TZOFFSETTO:+0200
TZNAME:CEST
DTSTART:20250330T010000
END:DAYLIGHT
BEGIN:STANDARD
TZOFFSETFROM:+0200
TZOFFSETTO:+0100
TZNAME:CET
DTSTART:20251026T010000
END:STANDARD
END:VTIMEZONE
BEGIN:VEVENT
DTSTART;VALUE=DATE:20240317
DTEND;VALUE=DATE:20240318
DTSTAMP:20260423T223435
CREATED:20240301T081323Z
LAST-MODIFIED:20240301T081323Z
UID:1811-1710633600-1710719999@freewaters.it
SUMMARY:Festa del Papà in Rafting
DESCRIPTION:Evento per passare una giornata con i vostri bimbi nella natura\, in acqua e soprattutto aiutando l’ambiente! \nAffronteremo una discesa rafting soft\, (ci si bagna solo i piedi) con sosta in alcuni punti per raccogliere plastica/carta.\nI bimbi/ragazzi impareranno l’importanza del territorio e come prendersene cura.\nA fine attività potrete godervi il resto della giornata con pranzo a sacco nel parco intorno o nel nostro deposito in compagnia del team Freewaters \nCOSTO:\nEUR 35\,00 p.p. adulto + EUR 5\,00 bambino (comprendono assicurazione\, materiale\, accompagnatori)\n\nISCRIZIONI (entro 16/03):\nhttps://forms.gle/ht6d5osQoZcaZEoV9
URL:https://freewaters.it/evento/festa-del-papa-in-rafting/
LOCATION:Falzè di PIave\, passo Barca\, Falzè di Piave
CATEGORIES:Gruppi,Rafting,Scuole
END:VEVENT
END:VCALENDAR