BEGIN:VCALENDAR
VERSION:2.0
PRODID:-//Free Waters - ECPv6.15.17.1//NONSGML v1.0//EN
CALSCALE:GREGORIAN
METHOD:PUBLISH
X-ORIGINAL-URL:https://freewaters.it
X-WR-CALDESC:Eventi per Free Waters
REFRESH-INTERVAL;VALUE=DURATION:PT1H
X-Robots-Tag:noindex
X-PUBLISHED-TTL:PT1H
BEGIN:VTIMEZONE
TZID:Europe/Rome
BEGIN:DAYLIGHT
TZOFFSETFROM:+0100
TZOFFSETTO:+0200
TZNAME:CEST
DTSTART:20220327T010000
END:DAYLIGHT
BEGIN:STANDARD
TZOFFSETFROM:+0200
TZOFFSETTO:+0100
TZNAME:CET
DTSTART:20221030T010000
END:STANDARD
BEGIN:DAYLIGHT
TZOFFSETFROM:+0100
TZOFFSETTO:+0200
TZNAME:CEST
DTSTART:20230326T010000
END:DAYLIGHT
BEGIN:STANDARD
TZOFFSETFROM:+0200
TZOFFSETTO:+0100
TZNAME:CET
DTSTART:20231029T010000
END:STANDARD
BEGIN:DAYLIGHT
TZOFFSETFROM:+0100
TZOFFSETTO:+0200
TZNAME:CEST
DTSTART:20240331T010000
END:DAYLIGHT
BEGIN:STANDARD
TZOFFSETFROM:+0200
TZOFFSETTO:+0100
TZNAME:CET
DTSTART:20241027T010000
END:STANDARD
END:VTIMEZONE
BEGIN:VEVENT
DTSTART;VALUE=DATE:20230715
DTEND;VALUE=DATE:20230716
DTSTAMP:20260424T124611
CREATED:20230713T181031Z
LAST-MODIFIED:20230714T081144Z
UID:1674-1689379200-1689465599@freewaters.it
SUMMARY:Laguna Sud in Kayak
DESCRIPTION:Un viaggio tra barene e valli da pesca  andremo alla scoperta di un piccolo gioiello\, un pezzetto di Olanda nella laguna sud. Nella meravigliosa Valle Zappa\, dove si allevano orate\, branzini e anguille\, spicca per la sua particolarità un vecchio casone di caccia\, conosciuto appunto\, come il Casone di Valle Zappa \nEdificio in stile nordico ma perfettamente inserito nel paesaggio lagunare donando un aspetto fiabesco!\nPUNTO DI RITROVO:\nhttps://goo.gl/maps/hei1MmHXsbtFfv8c7\nDISTANZA:\n11km in totale\, possibili deviazioni in base alle maree e andamento dei partecipanti\nCOSTO:\nEur 30\,00 p.p. comprendono assicurazione\, attrezzatura e accompagnatori.\nISCRIZIONI:\nhttps://forms.gle/aFZARJDRBEqTxYWx9\nEsci dalla routine e vieni in kayak con noi!!!
URL:https://freewaters.it/evento/laguna-sud-in-kayak/
CATEGORIES:Canoa,Gruppi,Kayak,Scuole
ATTACH;FMTTYPE=image/jpeg:https://freewaters.it/wp-content/uploads/2023/07/laguna-sud.jpg
END:VEVENT
BEGIN:VEVENT
DTSTART;VALUE=DATE:20230716
DTEND;VALUE=DATE:20230717
DTSTAMP:20260424T124611
CREATED:20230713T181235Z
LAST-MODIFIED:20230714T081609Z
UID:1678-1689465600-1689551999@freewaters.it
SUMMARY:Rafting in Brenta
DESCRIPTION:Domenica vi aspettiamo per rinfrescarci sul Brenta\, fiume con passaggi adrenalinici \nSi parte da San Gaetano (Valstagna) per arrivare al Quartiere Contarini.\nPer pranzo potrete usufruire del vostro pranzo a sacco oppure fermarvi alla trattoria Contarini \nRITROVO:\nhttps://goo.gl/maps/zCm3txVaxsrZsdnJ6\n COSTO:\nEUR 40\,00 P.P. comprende assicurazione\, accompagnatori\,attrezzatura\nISCRIZIONI:\nhttps://forms.gle/RkouYoTdkwhLWUAa8\nNon rimanere a casa\, vieni a divertirti con noi!
URL:https://freewaters.it/evento/rafting-in-brenta/
CATEGORIES:Gruppi,Rafting,Scuole
ATTACH;FMTTYPE=image/jpeg:https://freewaters.it/wp-content/uploads/2023/07/5dp-1.jpg
END:VEVENT
END:VCALENDAR